BEGIN:VCALENDAR
VERSION:2.0
PRODID:icalendar-ruby
CALSCALE:GREGORIAN
METHOD:PUBLISH
BEGIN:VEVENT
DTSTAMP:20260420T075707Z
UID:6-222589@thejourneypc.com
DTSTART:20261018T143000Z
DTEND:20261018T160000Z
CLASS:PUBLIC
CREATED:20260420T034817
DESCRIPTION:
LAST-MODIFIED:20260420T034817
LOCATION:1425 Rymfire Dr.
SUMMARY:Sunday Service
URL;VALUE=URI:https://www.thejourneypc.com/events/sunday-service/2026-10-18
END:VEVENT
END:VCALENDAR
