BEGIN:VCALENDAR
VERSION:2.0
PRODID:icalendar-ruby
CALSCALE:GREGORIAN
METHOD:PUBLISH
BEGIN:VEVENT
DTSTAMP:20260420T062114Z
UID:6-222522@thejourneypc.com
DTSTART:20261011T143000Z
DTEND:20261011T160000Z
CLASS:PUBLIC
CREATED:20260420T001057
DESCRIPTION:
LAST-MODIFIED:20260420T001057
LOCATION:1425 Rymfire Dr.
SUMMARY:Sunday Service
URL;VALUE=URI:https://www.thejourneypc.com/events/sunday-service/2026-10-11
END:VEVENT
END:VCALENDAR
