BEGIN:VCALENDAR
VERSION:2.0
PRODID:icalendar-ruby
CALSCALE:GREGORIAN
METHOD:PUBLISH
BEGIN:VEVENT
DTSTAMP:20260419T205808Z
UID:6-222385@thejourneypc.com
DTSTART:20260906T143000Z
DTEND:20260906T160000Z
CLASS:PUBLIC
CREATED:20260419T165149
DESCRIPTION:
LAST-MODIFIED:20260419T165149
LOCATION:1425 Rymfire Dr.
SUMMARY:Sunday Service
URL;VALUE=URI:https://www.thejourneypc.com/events/sunday-service/2026-09-06
END:VEVENT
END:VCALENDAR
