BEGIN:VCALENDAR
VERSION:2.0
PRODID:icalendar-ruby
CALSCALE:GREGORIAN
METHOD:PUBLISH
BEGIN:VEVENT
DTSTAMP:20260419T185252Z
UID:6-222318@thejourneypc.com
DTSTART:20260830T143000Z
DTEND:20260830T160000Z
CLASS:PUBLIC
CREATED:20260419T130935
DESCRIPTION:
LAST-MODIFIED:20260419T130935
LOCATION:1425 Rymfire Dr.
SUMMARY:Sunday Service
URL;VALUE=URI:https://www.thejourneypc.com/events/sunday-service/2026-08-30
END:VEVENT
END:VCALENDAR
