BEGIN:VCALENDAR
VERSION:2.0
PRODID:icalendar-ruby
CALSCALE:GREGORIAN
METHOD:PUBLISH
BEGIN:VEVENT
DTSTAMP:20260419T145930Z
UID:6-222250@thejourneypc.com
DTSTART:20260816T143000Z
DTEND:20260816T160000Z
CLASS:PUBLIC
CREATED:20260419T092733
DESCRIPTION:
LAST-MODIFIED:20260419T092733
LOCATION:1425 Rymfire Dr.
SUMMARY:Sunday Service
URL;VALUE=URI:https://www.thejourneypc.com/events/sunday-service/2026-08-16
END:VEVENT
END:VCALENDAR
