BEGIN:VCALENDAR
VERSION:2.0
PRODID:icalendar-ruby
CALSCALE:GREGORIAN
METHOD:PUBLISH
BEGIN:VEVENT
DTSTAMP:20260419T124949Z
UID:6-222183@thejourneypc.com
DTSTART:20260809T143000Z
DTEND:20260809T160000Z
CLASS:PUBLIC
CREATED:20260419T040324
DESCRIPTION:
LAST-MODIFIED:20260419T040324
LOCATION:1425 Rymfire Dr.
SUMMARY:Sunday Service
URL;VALUE=URI:https://www.thejourneypc.com/events/sunday-service/2026-08-09
END:VEVENT
END:VCALENDAR
